BEGIN:VCALENDAR
VERSION:2.0
PRODID:-//eventon.com NONSGML v1.0//EN
CALSCALE:GREGORIAN
METHOD:PUBLISH
BEGIN:VEVENT
UID:69e8a12663e97
DTSTAMP:20260422T102126Z
DTSTART:20260306T143000Z
DTEND:20260306T193000Z
LOCATION:
SUMMARY:Member Appreciation Meeting March 6\,  2026 9:30am-2:30pm
DESCRIPTION:Jackie Marth will teach this Member Appreciation program. The c
 anvas surface will be supplied by the club. More details to follow soon.\nh
 ttps://naplesdecorativeartists.org/events/monthly-meeting-march-16-2024-930
 am-230pm/
URL:https://naplesdecorativeartists.org/events/monthly-meeting-march-16-2024-930am-230pm/
END:VEVENT
END:VCALENDAR